BEGIN:VCALENDAR
VERSION:2.0
PRODID:-//Acme Widgets\, Inc.//NONSGML ExportToCalendar//EN
CALSCALE:GREGORIAN
BEGIN:VEVENT
DTSTAMP:20260423T102737Z
UID:16c0b7c7-af8c-4b6d-b59b-2f0226bcd5e4
DTSTART:20260426T120500
DTEND:20260426T122000
DESCRIPTION:Inspection for 4 Letsom Way\, LANGFORD WA 6147
LOCATION:4 Letsom Way\, LANGFORD WA 6147
SUMMARY:4 Letsom Way\, LANGFORD WA 6147
END:VEVENT
END:VCALENDAR
