BEGIN:VCALENDAR
VERSION:2.0
PRODID:-//Acme Widgets\, Inc.//NONSGML ExportToCalendar//EN
CALSCALE:GREGORIAN
BEGIN:VEVENT
DTSTAMP:20260424T121808Z
UID:babe78b3-9501-41d8-b994-45772243f35a
DTSTART:20260428T173000
DTEND:20260428T174500
DESCRIPTION:Inspection for 4 Tantini Close\, PARKWOOD WA 6147
LOCATION:4 Tantini Close\, PARKWOOD WA 6147
SUMMARY:4 Tantini Close\, PARKWOOD WA 6147
END:VEVENT
END:VCALENDAR
