BEGIN:VCALENDAR
VERSION:2.0
PRODID:-//Acme Widgets\, Inc.//NONSGML ExportToCalendar//EN
CALSCALE:GREGORIAN
BEGIN:VEVENT
DTSTAMP:20260423T103201Z
UID:70bf3c52-f776-4247-8e61-a1f636daffdf
DTSTART:20260426T120000
DTEND:20260426T123000
DESCRIPTION:Inspection for 60 Daly Circle\, LANGFORD WA 6147
LOCATION:60 Daly Circle\, LANGFORD WA 6147
SUMMARY:60 Daly Circle\, LANGFORD WA 6147
END:VEVENT
END:VCALENDAR
