BEGIN:VCALENDAR
VERSION:2.0
PRODID:-//Acme Widgets\, Inc.//NONSGML ExportToCalendar//EN
CALSCALE:GREGORIAN
BEGIN:VEVENT
DTSTAMP:20260423T102447Z
UID:1311cf84-d2f6-48ce-a6b3-be6f841b2883
DTSTART:20260426T114500
DTEND:20260426T120000
DESCRIPTION:Inspection for 4A Letsom\, LANGFORD WA 6147
LOCATION:4A Letsom\, LANGFORD WA 6147
SUMMARY:4A Letsom\, LANGFORD WA 6147
END:VEVENT
END:VCALENDAR
