BEGIN:VCALENDAR
VERSION:2.0
PRODID:-//Acme Widgets\, Inc.//NONSGML ExportToCalendar//EN
CALSCALE:GREGORIAN
BEGIN:VEVENT
DTSTAMP:20260423T132143Z
UID:58798813-d5f5-476d-8994-b5b8b1f3de88
DTSTART:20260426T113000
DTEND:20260426T114500
DESCRIPTION:Inspection for 10 Compass Circle\, YANCHEP WA 6035
LOCATION:10 Compass Circle\, YANCHEP WA 6035
SUMMARY:10 Compass Circle\, YANCHEP WA 6035
END:VEVENT
END:VCALENDAR
