BEGIN:VCALENDAR
VERSION:2.0
PRODID:-//Acme Widgets\, Inc.//NONSGML ExportToCalendar//EN
CALSCALE:GREGORIAN
BEGIN:VEVENT
DTSTAMP:20260423T102411Z
UID:8b0a4100-4160-4f6b-badf-67a7a679da0b
DTSTART:20260426T133000
DTEND:20260426T134500
DESCRIPTION:Inspection for 371 Metcalfe Road\, PARKWOOD WA 6147
LOCATION:371 Metcalfe Road\, PARKWOOD WA 6147
SUMMARY:371 Metcalfe Road\, PARKWOOD WA 6147
END:VEVENT
END:VCALENDAR
