BEGIN:VCALENDAR
VERSION:2.0
PRODID:-//Acme Widgets\, Inc.//NONSGML ExportToCalendar//EN
CALSCALE:GREGORIAN
BEGIN:VEVENT
DTSTAMP:20260423T102039Z
UID:7d0d87c0-d0b7-45ec-81eb-e439a05044ee
DTSTART:20260426T112000
DTEND:20260426T113500
DESCRIPTION:Inspection for 21 Westbourne Way\, LYNWOOD WA 6147
LOCATION:21 Westbourne Way\, LYNWOOD WA 6147
SUMMARY:21 Westbourne Way\, LYNWOOD WA 6147
END:VEVENT
END:VCALENDAR
