BEGIN:VCALENDAR
VERSION:2.0
PRODID:-//Acme Widgets\, Inc.//NONSGML ExportToCalendar//EN
CALSCALE:GREGORIAN
BEGIN:VEVENT
DTSTAMP:20260423T103201Z
UID:09115cf4-b62a-4869-9d2e-6637ddf62fa1
DTSTART:20260425T150000
DTEND:20260425T153000
DESCRIPTION:Inspection for 7 / 21 Holton Way\, CANNINGTON WA 6107
LOCATION:7 / 21 Holton Way\, CANNINGTON WA 6107
SUMMARY:7 / 21 Holton Way\, CANNINGTON WA 6107
END:VEVENT
END:VCALENDAR
